BEGIN:VCALENDAR
VERSION:2.0
PRODID:-//ARSAMATORIA - ECPv6.15.14//NONSGML v1.0//EN
CALSCALE:GREGORIAN
METHOD:PUBLISH
X-WR-CALNAME:ARSAMATORIA
X-ORIGINAL-URL:https://arsamatoria.de
X-WR-CALDESC:Veranstaltungen für ARSAMATORIA
REFRESH-INTERVAL;VALUE=DURATION:PT1H
X-Robots-Tag:noindex
X-PUBLISHED-TTL:PT1H
BEGIN:VTIMEZONE
TZID:Europe/Berlin
BEGIN:DAYLIGHT
TZOFFSETFROM:+0100
TZOFFSETTO:+0200
TZNAME:CEST
DTSTART:20240331T010000
END:DAYLIGHT
BEGIN:STANDARD
TZOFFSETFROM:+0200
TZOFFSETTO:+0100
TZNAME:CET
DTSTART:20241027T010000
END:STANDARD
BEGIN:DAYLIGHT
TZOFFSETFROM:+0100
TZOFFSETTO:+0200
TZNAME:CEST
DTSTART:20250330T010000
END:DAYLIGHT
BEGIN:STANDARD
TZOFFSETFROM:+0200
TZOFFSETTO:+0100
TZNAME:CET
DTSTART:20251026T010000
END:STANDARD
BEGIN:DAYLIGHT
TZOFFSETFROM:+0100
TZOFFSETTO:+0200
TZNAME:CEST
DTSTART:20260329T010000
END:DAYLIGHT
BEGIN:STANDARD
TZOFFSETFROM:+0200
TZOFFSETTO:+0100
TZNAME:CET
DTSTART:20261025T010000
END:STANDARD
BEGIN:DAYLIGHT
TZOFFSETFROM:+0100
TZOFFSETTO:+0200
TZNAME:CEST
DTSTART:20270328T010000
END:DAYLIGHT
BEGIN:STANDARD
TZOFFSETFROM:+0200
TZOFFSETTO:+0100
TZNAME:CET
DTSTART:20271031T010000
END:STANDARD
END:VTIMEZONE
BEGIN:VEVENT
DTSTART;TZID=Europe/Berlin:20260328T190000
DTEND;TZID=Europe/Berlin:20260328T190000
DTSTAMP:20260424T190010
CREATED:20260112T003245Z
LAST-MODIFIED:20260113T095130Z
UID:10000039-1774724400-1774724400@arsamatoria.de
SUMMARY:Verführung
DESCRIPTION:In dieser Nacht dreht sich im Schloss alles um die Verführung. In jedem Winkel des Schlosses kannst du sie erfahren: Männer\, Frauen\, Paare warten in den verschiedenen Räumen\, geduldig und innerlich rastlos zugleich. \n\n\n\nWenn du das Schloss betrittst\, wirst du dich entscheiden: Willst du verführen oder verführt werden? Ein Bändchen wird deine Wahl sichtbar machen. Euch Verführerinnen und Verführer geleiten wir mit Spielbeginn als erste in die Spielräume Casanovas. Wir stehen euch zur Seite\, werden Komplizen\, warten gemeinsam\, hören die Stimme\, die dir sagt: \n\n\n\n„Ich lasse alles hinter mir. Für dich. Ich bleibe hier in diesem Bett\, in diesem Schloss und warte – auf dich. Bis du kommst. Zu mir. Stufe für Stufe. Schritt für Schritt. Ich bin Casanova\, deine Verführung\, das Spiel\, das du spielen willst\, der Spiegel\, der dich sieht\, die Hand\, die dich berührt\, der Schatten\, der dir folgt\, das Haus\, das du bewohnen willst\, der Sex\, den du dir wünschst. Für diese Nacht.“ \n\n\n\nKeine Sorge\, das Bändchen bedeutet nicht\, dass ihr eure Rolle für die ganze Nacht gewählt habt\, es ist der Startschlüssel in euer individuelles Casanova-Abenteuer! Und für euch Paare gilt: Selbstverständlich könnt ihr den Abend gemeinsam erleben – ihr wollt euch gegenseitig verführen\, gemeinsam Verführte oder Verführende sein – alles ist möglich. \n\n\n\n 
URL:https://arsamatoria.de/event/verfuehrung-2/
LOCATION:Schloss Milkersdorf\, Schlossstr. 15\, Kolkwitz\, Brandenburg\, 03099\, Germany
ATTACH;FMTTYPE=image/jpeg:https://arsamatoria.de/wp-content/uploads/2025/11/casanova-7.jpg
END:VEVENT
BEGIN:VEVENT
DTSTART;TZID=Europe/Berlin:20260327T190000
DTEND;TZID=Europe/Berlin:20260327T190000
DTSTAMP:20260424T190010
CREATED:20260112T013054Z
LAST-MODIFIED:20260112T013055Z
UID:10000041-1774638000-1774638000@arsamatoria.de
SUMMARY:Blinde Lust
DESCRIPTION:Ein exklusiver Abend von ArsAmatoria \n\n\n\n„Diese Nacht ist Dein Abenteuer!“ \n\n\n\nEuer Herz klopft\, als ihr die Schwelle zum Schloss überschreitet. Schon seit Tagen macht sich das Kopfkino in Euch bemerkbar: Während Du die Augenbinde gewählt hast\, freut sich Deine Begleitung auf schamlosen Voyeurismus. BLINDE LUST ist eine exklusive Nacht ausschließlich für Paare. Ein Abend\, an dem ein Partner den gesamten Verlauf mit verbundenen Augen erlebt\, während der andere sehen darf. Diese besondere Regel bildet das Fundament für absolute Hingabe\, prickelnde Ungewissheit und sinnliche Erfahrungen.
URL:https://arsamatoria.de/event/blinde-lust/
LOCATION:Schloss Milkersdorf\, Schlossstr. 15\, Kolkwitz\, Brandenburg\, 03099\, Germany
ATTACH;FMTTYPE=image/jpeg:https://arsamatoria.de/wp-content/uploads/2025/11/Blinde-Lust-farbe.jpg
END:VEVENT
BEGIN:VEVENT
DTSTART;TZID=Europe/Berlin:20260327T184500
DTEND;TZID=Europe/Berlin:20260327T184500
DTSTAMP:20260424T190010
CREATED:20260112T014757Z
LAST-MODIFIED:20260120T005922Z
UID:10000046-1774637100-1774637100@arsamatoria.de
SUMMARY:Das Milkersdorf Weekend
DESCRIPTION:Das erste ArsAmatoria-Wochenende auf Schloss Milkersdorf. Und es steht ganz im Zeichen des libertinen Geistes! \n\n\n\n\nOb der Blindfolded-Abend BLINDE LUST oder VERFÜHUNG – die Spiele des Casanova – beide Nächte beschwören Hingabe\, Mut\, Neugierde\, Voyeurismus\, Exhibitionismus\, puren Genuss\, Perversion im Kopf wie in der Tat und die Lust größtmöglicher Verführung… \nWir von Ars Amatoria freuen uns sehr\, dass wir diese beiden\, für Milkersdorf entwickelten Konzepte\, an einem Wochenende zusammenbringen und nehmen euch mit auf eine ganz exquisite TEA TIME am Samstagnachmittag: Freuden für Gaumen\, Geist und Körper!\nDas Weekend-Ticket eröffnet einem ausgewählten Kreis einen freigeistigen Austausch größter Zügellosigkeit.\nÜberwinden wir Scham und Schuld und erforschen die eigenen Grenzen der Verführungsmöglichkeit\, indem wir dem großen Meister Casanova folgen und von ihm lernen.\nBille und Stefan geben einen Workshop zu Casanova und moderieren die Diskussion um die modernen Libertines! \nTicketpreis:\nPaarticket     380 €\nIm Eintrittspreis enthalten sind die Veranstaltungen: BLINDE LUST\, VERFÜHRUNG\, Tea Time mit Diskussion und Workshop zum MODERNEN LIBERTIN. Das exklusive Buffet\, spätere Snacks\, Desserts sowie eine große Auswahl an Cocktails und Getränken. \nBuchung unter den jeweiligen Veranstaltungen BLINDE LUST und VERFÜHRUNG! \nHier geht`s zum SORGLOSPAKET für das gesamte Wochenende: Buchung und Information. \nDas optional buchbare Sorglospaket beinhaltet zwei Übernachtungen im 4 Sterne Superior SORAT Hotel in Cottbus (Doppelzimmer für 1 Paar)\, mitten in der Altstadt\, inkl. Shuttle-Service zum Schloss.\nCheck-In im Hotel ab 15.00 Uhr mit Eurem Ticket. Die klimatisierten Zimmer sind ausgestattet mit Dusche/WC\, kostenfreiem WLAN\, Satelliten-TV und Schreibtisch.\nShuttle-Transfer startet jeweils pünktlich um 18.30 Uhr vom Hotel zum Schloss und benötigt ca. 15 Minuten. Die Rückfahrt vom Schloss ins Hotel erfolgt um 2.00 Uhr. \nOptional: Frühstück (für 19 Euro pro Person)\, Tiefgarage (12 Euro/24h) und Haustieraufenthalt (15 Euro/Nacht). \n\n\n\n\n\nZusatzkosten sind bitte direkt im Hotel zu zahlen. Alternativ zum Shuttleservice kann ein Taxi genutzt werden. Die Kosten für eine einfache Fahrt betragen ca. 35 Euro. Eine Verrechnung des nicht genutzten Shuttles ist leider nicht möglich. \n\n\n\n\n\n\n  faszinierend | konkret | milkersdorf | mythologie | sensorischVeranstaltung                        Blinde Lust      Eine erotische Odyssee              abenteuer | faszinierend | konkret | milkersdorfVeranstaltung                        Verführung      Die Spiele des Giacomo Casanova
URL:https://arsamatoria.de/event/das-milkersdorf-weekend-2/
LOCATION:Schloss Milkersdorf\, Schlossstr. 15\, Kolkwitz\, Brandenburg\, 03099\, Germany
ATTACH;FMTTYPE=image/jpeg:https://arsamatoria.de/wp-content/uploads/2026/01/milkersdorf-weekend-scaled.jpg
END:VEVENT
BEGIN:VEVENT
DTSTART;TZID=Europe/Berlin:20260130T190000
DTEND;TZID=Europe/Berlin:20260130T190000
DTSTAMP:20260424T190010
CREATED:20251208T053757Z
LAST-MODIFIED:20260107T065040Z
UID:10000029-1769799600-1769799600@arsamatoria.de
SUMMARY:SECRET DESIRE
DESCRIPTION:Willkommen zu einer unvergesslichen Nacht auf Schloss Milkersdorf. \n\n\n\nDieser Abend steht ganz im Zeichen eurer geheimen erotischen Wünsche.Zu Beginn erhaltet ihr ein oder mehrere Kärtchen\, auf denen ihr eure bisher ungelebten Fantasien und Wünsche notieren könnt. Du sehnst dich nach einer Massage mit vielen Händen\, oder möchtest mit deiner Partnerin einem fremden Paar begegnen? Ist es dein Wunsch\, mit verbundenen Augen auf einem Bett zu liegen und verwöhnt zu werden? Vielleicht ist deine Fantasie auch noch explizierter: Würdest du gerne gefesselt werden oder Teil einer Orgie sein? \n\n\n\nAn diesem Abend könnten deine Wünsche in Erfüllung gehen!Am Eingang schreibst du deine Wünsche auf Kärtchen\, steckst sie in Umschläge. Sie bleiben erst einmal nur bei dir.
URL:https://arsamatoria.de/event/secret-desire/
LOCATION:Schloss Milkersdorf\, Schlossstr. 15\, Kolkwitz\, Brandenburg\, 03099\, Germany
ATTACH;FMTTYPE=image/jpeg:https://arsamatoria.de/wp-content/uploads/2025/12/secret-desire-image.jpg
END:VEVENT
BEGIN:VEVENT
DTSTART;TZID=Europe/Berlin:20251213T190000
DTEND;TZID=Europe/Berlin:20251213T190000
DTSTAMP:20260424T190010
CREATED:20260106T060511Z
LAST-MODIFIED:20260112T155021Z
UID:10000003-1765652400-1765652400@arsamatoria.de
SUMMARY:Verführung
DESCRIPTION:In dieser Nacht dreht sich im Schloss alles um die Verführung. In jedem Winkel des Schlosses kannst du sie erfahren: Männer\, Frauen\, Paare warten in den verschiedenen Räumen\, geduldig und innerlich rastlos zugleich. \n\n\n\nWenn du das Schloss betrittst\, wirst du dich entscheiden: Willst du verführen oder verführt werden? Ein Bändchen wird deine Wahl sichtbar machen. Euch Verführerinnen und Verführer geleiten wir mit Spielbeginn als erste in die Spielräume Casanovas. Wir stehen euch zur Seite\, werden Komplizen\, warten gemeinsam\, hören die Stimme\, die dir sagt: \n\n\n\n„Ich lasse alles hinter mir. Für dich. Ich bleibe hier in diesem Bett\, in diesem Schloss und warte – auf dich. Bis du kommst. Zu mir. Stufe für Stufe. Schritt für Schritt. Ich bin Casanova\, deine Verführung\, das Spiel\, das du spielen willst\, der Spiegel\, der dich sieht\, die Hand\, die dich berührt\, der Schatten\, der dir folgt\, das Haus\, das du bewohnen willst\, der Sex\, den du dir wünschst. Für diese Nacht.“ \n\n\n\nKeine Sorge\, das Bändchen bedeutet nicht\, dass ihr eure Rolle für die ganze Nacht gewählt habt\, es ist der Startschlüssel in euer individuelles Casanova-Abenteuer! Und für euch Paare gilt: Selbstverständlich könnt ihr den Abend gemeinsam erleben – ihr wollt euch gegenseitig verführen\, gemeinsam Verführte oder Verführende sein – alles ist möglich. \n\n\n\n 
URL:https://arsamatoria.de/event/verfuehrung/
LOCATION:Schloss Milkersdorf\, Schlossstr. 15\, Kolkwitz\, Brandenburg\, 03099\, Germany
ATTACH;FMTTYPE=image/jpeg:https://arsamatoria.de/wp-content/uploads/2025/11/Verfuehrung.jpg
END:VEVENT
END:VCALENDAR